BEGIN:VCALENDAR
VERSION:2.0
PRODID:-//Universidad ZGK - ECPv6.0.10//NONSGML v1.0//EN
CALSCALE:GREGORIAN
METHOD:PUBLISH
X-WR-CALNAME:Universidad ZGK
X-ORIGINAL-URL:https://zgk.mx
X-WR-CALDESC:Eventos para Universidad ZGK
REFRESH-INTERVAL;VALUE=DURATION:PT1H
X-Robots-Tag:noindex
X-PUBLISHED-TTL:PT1H
BEGIN:VTIMEZONE
TZID:UTC
BEGIN:STANDARD
TZOFFSETFROM:+0000
TZOFFSETTO:+0000
TZNAME:UTC
DTSTART:20210101T000000
END:STANDARD
END:VTIMEZONE
BEGIN:VEVENT
DTSTART;TZID=UTC:20210202T090000
DTEND;TZID=UTC:20210202T170000
DTSTAMP:20260425T005559
CREATED:20210121T005205Z
LAST-MODIFIED:20210126T011929Z
UID:1258-1612256400-1612285200@zgk.mx
SUMMARY:Último día de inscripciones para: Seminario de estrategias de actualización laboral para dirigentes de empresas japonesas en México
DESCRIPTION:
URL:https://zgk.mx/event/ultimo-dia-de-inscipciones-para-seminario-de-estrategias-de-actualizacion-laboral-para-dirigentes-de-empresas-japonesas-en-mexico/
END:VEVENT
END:VCALENDAR