BEGIN:VCALENDAR
VERSION:2.0
PRODID:-//Universidad ZGK - ECPv6.0.10//NONSGML v1.0//EN
CALSCALE:GREGORIAN
METHOD:PUBLISH
X-ORIGINAL-URL:https://zgk.mx
X-WR-CALDESC:Eventos para Universidad ZGK
REFRESH-INTERVAL;VALUE=DURATION:PT1H
X-Robots-Tag:noindex
X-PUBLISHED-TTL:PT1H
BEGIN:VTIMEZONE
TZID:UTC
BEGIN:STANDARD
TZOFFSETFROM:+0000
TZOFFSETTO:+0000
TZNAME:UTC
DTSTART:20210101T000000
END:STANDARD
END:VTIMEZONE
BEGIN:VEVENT
DTSTART;TZID=UTC:20210216T080000
DTEND;TZID=UTC:20210216T100000
DTSTAMP:20260425T004845
CREATED:20210122T082622Z
LAST-MODIFIED:20210122T193603Z
UID:1639-1613462400-1613469600@zgk.mx
SUMMARY:Sesión 1. Seminario de negociación de contratos colectivos
DESCRIPTION:
URL:https://zgk.mx/event/sesion-1-seminario-de-negociacion-de-contratos-colectivos/
END:VEVENT
END:VCALENDAR