BEGIN:VCALENDAR
VERSION:2.0
PRODID:-//Universidad ZGK - ECPv6.0.10//NONSGML v1.0//EN
CALSCALE:GREGORIAN
METHOD:PUBLISH
X-ORIGINAL-URL:https://zgk.mx
X-WR-CALDESC:Eventos para Universidad ZGK
REFRESH-INTERVAL;VALUE=DURATION:PT1H
X-Robots-Tag:noindex
X-PUBLISHED-TTL:PT1H
BEGIN:VTIMEZONE
TZID:UTC
BEGIN:STANDARD
TZOFFSETFROM:+0000
TZOFFSETTO:+0000
TZNAME:UTC
DTSTART:20210101T000000
END:STANDARD
END:VTIMEZONE
BEGIN:VEVENT
DTSTART;TZID=UTC:20210225T080000
DTEND;TZID=UTC:20210225T100000
DTSTAMP:20260425T005737
CREATED:20210122T082623Z
LAST-MODIFIED:20210122T085220Z
UID:1642-1614240000-1614247200@zgk.mx
SUMMARY:Sesión 4. Seminario de negociación de contratos colectivos
DESCRIPTION:
URL:https://zgk.mx/event/sesion-4-seminario-de-negociacion-de-contratos-colectivos/
END:VEVENT
END:VCALENDAR