BEGIN:VCALENDAR
VERSION:2.0
PRODID:-//Universidad ZGK - ECPv6.0.10//NONSGML v1.0//EN
CALSCALE:GREGORIAN
METHOD:PUBLISH
X-ORIGINAL-URL:https://zgk.mx
X-WR-CALDESC:Eventos para Universidad ZGK
REFRESH-INTERVAL;VALUE=DURATION:PT1H
X-Robots-Tag:noindex
X-PUBLISHED-TTL:PT1H
BEGIN:VTIMEZONE
TZID:UTC
BEGIN:STANDARD
TZOFFSETFROM:+0000
TZOFFSETTO:+0000
TZNAME:UTC
DTSTART:20210101T000000
END:STANDARD
END:VTIMEZONE
BEGIN:VEVENT
DTSTART;TZID=UTC:20210219T080000
DTEND;TZID=UTC:20210219T090000
DTSTAMP:20260425T024852
CREATED:20210121T011443Z
LAST-MODIFIED:20210126T012246Z
UID:1300-1613721600-1613725200@zgk.mx
SUMMARY:Sesión 8. Seminario de estrategias de actualización laboral para dirigentes de empresas japonesas en México
DESCRIPTION:
URL:https://zgk.mx/event/sesion-8-seminario-de-estrategias-de-actualizacion-laboral-para-dirigentes-de-empresas-japonesas-en-mexico-2/
END:VEVENT
BEGIN:VEVENT
DTSTART;TZID=UTC:20210222T080000
DTEND;TZID=UTC:20210222T090000
DTSTAMP:20260425T024852
CREATED:20210121T011443Z
LAST-MODIFIED:20210126T012237Z
UID:1301-1613980800-1613984400@zgk.mx
SUMMARY:Sesión 9. Seminario de estrategias de actualización laboral para dirigentes de empresas japonesas en México
DESCRIPTION:
URL:https://zgk.mx/event/sesion-9-seminario-de-estrategias-de-actualizacion-laboral-para-dirigentes-de-empresas-japonesas-en-mexico-2/
END:VEVENT
BEGIN:VEVENT
DTSTART;TZID=UTC:20210223T080000
DTEND;TZID=UTC:20210223T100000
DTSTAMP:20260425T024852
CREATED:20210122T082623Z
LAST-MODIFIED:20210122T085243Z
UID:1641-1614067200-1614074400@zgk.mx
SUMMARY:Sesión 3. Seminario de negociación de contratos colectivos
DESCRIPTION:
URL:https://zgk.mx/event/sesion-3-seminario-de-negociacion-de-contratos-colectivos/
END:VEVENT
BEGIN:VEVENT
DTSTART;TZID=UTC:20210224T080000
DTEND;TZID=UTC:20210224T090000
DTSTAMP:20260425T024852
CREATED:20210121T011443Z
LAST-MODIFIED:20210126T012227Z
UID:1302-1614153600-1614157200@zgk.mx
SUMMARY:Sesión 10. Cierre de Seminario de estrategias de actualización laboral para dirigentes de empresas japonesas en México
DESCRIPTION:
URL:https://zgk.mx/event/sesion-10-cierre-de-seminario-de-estrategias-de-actualizacion-laboral-para-dirigentes-de-empresas-japonesas-en-mexico-2/
END:VEVENT
BEGIN:VEVENT
DTSTART;TZID=UTC:20210225T080000
DTEND;TZID=UTC:20210225T100000
DTSTAMP:20260425T024852
CREATED:20210122T082623Z
LAST-MODIFIED:20210122T085220Z
UID:1642-1614240000-1614247200@zgk.mx
SUMMARY:Sesión 4. Seminario de negociación de contratos colectivos
DESCRIPTION:
URL:https://zgk.mx/event/sesion-4-seminario-de-negociacion-de-contratos-colectivos/
END:VEVENT
BEGIN:VEVENT
DTSTART;TZID=UTC:20210302T080000
DTEND;TZID=UTC:20210302T100000
DTSTAMP:20260425T024852
CREATED:20210122T082623Z
LAST-MODIFIED:20210122T085202Z
UID:1643-1614672000-1614679200@zgk.mx
SUMMARY:Sesión 5. Seminario de negociación de contratos colectivos
DESCRIPTION:
URL:https://zgk.mx/event/sesion-5-seminario-de-negociacion-de-contratos-colectivos/
END:VEVENT
BEGIN:VEVENT
DTSTART;TZID=UTC:20210304T080000
DTEND;TZID=UTC:20210304T100000
DTSTAMP:20260425T024852
CREATED:20210122T082625Z
LAST-MODIFIED:20210122T085136Z
UID:1644-1614844800-1614852000@zgk.mx
SUMMARY:Sesión 6. Seminario de negociación de contratos colectivos
DESCRIPTION:
URL:https://zgk.mx/event/sesion-6-seminario-de-negociacion-de-contratos-colectivos/
END:VEVENT
BEGIN:VEVENT
DTSTART;TZID=UTC:20210309T080000
DTEND;TZID=UTC:20210309T100000
DTSTAMP:20260425T024852
CREATED:20210122T082625Z
LAST-MODIFIED:20210122T085050Z
UID:1645-1615276800-1615284000@zgk.mx
SUMMARY:Sesión 7. Seminario de negociación de contratos colectivos
DESCRIPTION:
URL:https://zgk.mx/event/sesion-7-seminario-de-negociacion-de-contratos-colectivos/
END:VEVENT
END:VCALENDAR